BEGIN:VCALENDAR
VERSION:2.0
PRODID:-//Enjoy Seminar - ECPv5.9.0//NONSGML v1.0//EN
CALSCALE:GREGORIAN
METHOD:PUBLISH
X-WR-CALNAME:Enjoy Seminar
X-ORIGINAL-URL:https://www.enjoyseminar.com/ai
X-WR-CALDESC:Enjoy Seminar のイベント
BEGIN:VTIMEZONE
TZID:Asia/Tokyo
BEGIN:STANDARD
TZOFFSETFROM:+0900
TZOFFSETTO:+0900
TZNAME:JST
DTSTART:20190101T000000
END:STANDARD
END:VTIMEZONE
BEGIN:VEVENT
DTSTART;TZID=Asia/Tokyo:20191116T133000
DTEND;TZID=Asia/Tokyo:20191116T170000
DTSTAMP:20260420T153014
CREATED:20190924T064146Z
LAST-MODIFIED:20190924T064146Z
UID:1405-1573911000-1573923600@www.enjoyseminar.com
SUMMARY:エンジョイセミナー
DESCRIPTION:予約不要のイベント\n土曜日、午後開始になります\nエンジョイセミナーはご予約無しでご参加頂けます。当日会場までお越し下さい。 \n開場は当日開始時刻の15分前からです。 \n個人ヒーリングご希望の方も同時に受付けています、先着順となりますのでご了承ください。
URL:https://www.enjoyseminar.com/ai/event/enjoy2019nov/
LOCATION:緑ヶ丘文化会館 2階 第1研修室\, 緑が丘2-14-23\, 目黒区\, 東京都
CATEGORIES:エンジョイセミナー１
END:VEVENT
END:VCALENDAR