BEGIN:VCALENDAR
VERSION:2.0
PRODID:-//Enjoy Seminar - ECPv5.9.0//NONSGML v1.0//EN
CALSCALE:GREGORIAN
METHOD:PUBLISH
X-WR-CALNAME:Enjoy Seminar
X-ORIGINAL-URL:https://www.enjoyseminar.com/ai
X-WR-CALDESC:Enjoy Seminar のイベント
BEGIN:VTIMEZONE
TZID:Asia/Tokyo
BEGIN:STANDARD
TZOFFSETFROM:+0900
TZOFFSETTO:+0900
TZNAME:JST
DTSTART:20200101T000000
END:STANDARD
END:VTIMEZONE
BEGIN:VEVENT
DTSTART;TZID=Asia/Tokyo:20200119T133000
DTEND;TZID=Asia/Tokyo:20200119T170000
DTSTAMP:20260420T141023
CREATED:20191212T202725Z
LAST-MODIFIED:20191212T202725Z
UID:1494-1579440600-1579453200@www.enjoyseminar.com
SUMMARY:エンジョイセミナー
DESCRIPTION:予約不要のイベント\n午後開始になります\nエンジョイセミナーはご予約無しでご参加頂けます。当日会場までお越し下さい。 \n開場は当日開始時刻の15分前からです。 \n個人ヒーリングご希望の方も同時に受付けています、先着順となりますのでご了承ください。
URL:https://www.enjoyseminar.com/ai/event/enjoy2020jan/
LOCATION:川崎産業振興会館 10階 第4会議室\, 幸区堀川町66-20\, 川崎市\, 神奈川県
CATEGORIES:エンジョイセミナー１
END:VEVENT
END:VCALENDAR