BEGIN:VCALENDAR
VERSION:2.0
PRODID:-//Enjoy Seminar - ECPv5.9.0//NONSGML v1.0//EN
CALSCALE:GREGORIAN
METHOD:PUBLISH
X-WR-CALNAME:Enjoy Seminar
X-ORIGINAL-URL:https://www.enjoyseminar.com/ai
X-WR-CALDESC:Enjoy Seminar のイベント
BEGIN:VTIMEZONE
TZID:Asia/Tokyo
BEGIN:STANDARD
TZOFFSETFROM:+0900
TZOFFSETTO:+0900
TZNAME:JST
DTSTART:20190101T000000
END:STANDARD
END:VTIMEZONE
BEGIN:VEVENT
DTSTART;TZID=Asia/Tokyo:20191123T133000
DTEND;TZID=Asia/Tokyo:20191123T190000
DTSTAMP:20260420T152949
CREATED:20190924T065014Z
LAST-MODIFIED:20190924T065014Z
UID:1410-1574515800-1574535600@www.enjoyseminar.com
SUMMARY:第59回エンジョイフロー
DESCRIPTION:ご予約はこちらから \nあなたにとって人生とは？ \n楽しむためにある　私はそう思っています \nこのセッションは効果的に自然な成長を促します。 \n成長や発見、おもいやりや豊かさが増加します、素晴らしい人達に囲まれて生きる歓びを思い出させてくれます。 \n\n本気でしあわせになりたい人、絵空事ではなく充実した日々や、豊かさをあなたの周りに自然と引き寄せ、シンプルで楽しい日々を送りたいと思っている方には最適です。 \n\nしあわせに暮らそうとするあなたを無意識に足を引っ張るエネルギーがあるのを知っていますか？ \n\n不必要な障害、トラブル、複雑で難解な人間関係を終わらせ、居たい人と居て、\n自分らしく堂々と生きることに興味はありますか？ \n\nより楽に生きたい方、自分らしく生きたい方、\n充実した人生を送りたい方にこの機会を御利用して頂きたいと思っています\n\nこのワークセッションは対話形式で行っています\n簡単な講義と心理的なエクササイズ等を行います\nワークセッションでは希望者が主催者（横山）と対話しながら進んでい\nきます、いろいろな提案をしますが行うかどうかは参加者の自由です。\n他の参加者も同じ場を共有しながら様々な発見や癒し、解放を体験します全般的に参加者同士で気付きをシェアしながらサポートし合いますが\nすべてにおいて強制的に何かをする事は全くありません。\n安全で自発的な表現の場をご提供しています。\n10分程度の休憩が3，4回あります\n※当日参加に際してお互いに安全な場を約束する為に同意事項に賛同して頂く必要があります。\nご予約はこちらから
URL:https://www.enjoyseminar.com/ai/event/flow59th2019nov/
LOCATION:緑ヶ丘文化会館 3F 第8研修室（和室）\, 緑が丘2-14-23\, 目黒区\, 東京都
CATEGORIES:フロー
END:VEVENT
END:VCALENDAR