BEGIN:VCALENDAR
VERSION:2.0
PRODID:-//Enjoy Seminar - ECPv5.9.0//NONSGML v1.0//EN
CALSCALE:GREGORIAN
METHOD:PUBLISH
X-WR-CALNAME:Enjoy Seminar
X-ORIGINAL-URL:https://www.enjoyseminar.com/ai
X-WR-CALDESC:Enjoy Seminar のイベント
BEGIN:VTIMEZONE
TZID:Asia/Tokyo
BEGIN:STANDARD
TZOFFSETFROM:+0900
TZOFFSETTO:+0900
TZNAME:JST
DTSTART:20230101T000000
END:STANDARD
END:VTIMEZONE
BEGIN:VEVENT
DTSTART;TZID=Asia/Tokyo:20230626T133000
DTEND;TZID=Asia/Tokyo:20230626T173000
DTSTAMP:20260420T015003
CREATED:20230517T020328Z
LAST-MODIFIED:20230622T035405Z
UID:3985-1687786200-1687800600@www.enjoyseminar.com
SUMMARY:第76回対面エンジョイフロー（予約制）
DESCRIPTION:お待たせ致しました! いよいよ会場にて開催させて頂きます\nコロナ感染対策として条件付き開催となります　こちらを必ずご確認ください\n※人数限定での開催になります \n満席の為ご予約は締め切りました。みなさまご予約ありがとうございました。 \n\nあなたにとって人生とは？ \n楽しむためにある　私はそう思っています \nこのセッションは効果的に自然な成長を促します。 \n成長や発見、おもいやりや豊かさが増加します、素晴らしい人達に囲まれて生きる歓びを思い出させてくれます。 \n\n本気でしあわせになりたい人、絵空事ではなく充実した日々や、豊かさをあなたの周りに自然と引き寄せ、シンプルで楽しい日々を送りたいと思っている方には最適です。 \n\nしあわせに暮らそうとするあなたを無意識に足を引っ張るエネルギーがあるのを知っていますか？ \n\n不必要な障害、トラブル、複雑で難解な人間関係を終わらせ、居たい人と居て、\n自分らしく堂々と生きることに興味はありますか？ \n\nより楽に生きたい方、自分らしく生きたい方、\n充実した人生を送りたい方にこの機会を御利用して頂きたいと思っています \n\n\nこのワークセッションは対話形式で行っています\n簡単な講義と心理的なエクササイズ等を行います\nワークセッションでは希望者が主催者（横山）と対話しながら進んでい\nきます、いろいろな提案をしますが行うかどうかは参加者の自由です。\n他の参加者も同じ場を共有しながら様々な気付き、発見、癒し、解放を体験します.\nすべてにおいて強制的に何かをする事は全くありません。\nそのままの自分でいられるよう安全で自発的な表現の場をご提供しています。\n10分程度の休憩が3，4回あります\n※当日参加に際してお互いに安全な場を約束する為に同意事項に賛同して頂く必要があります。\n※人数限定での開催になります。定員になり次第締め切ります。\nご予約は締め切りました\n※終了時間が進行上伸びる可能性がございます。1時間程度余裕をもってご参加願います\n******************************************\n■ご予約締切日\n6月21日　水曜日 \n■支払期日\n6月22日　木曜日
URL:https://www.enjoyseminar.com/ai/event/flow76th2023jun/
LOCATION:川崎産業振興会館 10階 第1会議室\, 幸区堀川町66-20\, 川崎市\, 神奈川県
CATEGORIES:フロー
END:VEVENT
END:VCALENDAR