BEGIN:VCALENDAR
VERSION:2.0
PRODID:-//Enjoy Seminar - ECPv5.9.0//NONSGML v1.0//EN
CALSCALE:GREGORIAN
METHOD:PUBLISH
X-WR-CALNAME:Enjoy Seminar
X-ORIGINAL-URL:https://www.enjoyseminar.com/ai
X-WR-CALDESC:Enjoy Seminar のイベント
BEGIN:VTIMEZONE
TZID:Asia/Tokyo
BEGIN:STANDARD
TZOFFSETFROM:+0900
TZOFFSETTO:+0900
TZNAME:JST
DTSTART:20190101T000000
END:STANDARD
END:VTIMEZONE
BEGIN:VEVENT
DTSTART;TZID=Asia/Tokyo:20191209T133000
DTEND;TZID=Asia/Tokyo:20191209T153000
DTSTAMP:20260420T141117
CREATED:20190924T065305Z
LAST-MODIFIED:20190924T071510Z
UID:1413-1575898200-1575905400@www.enjoyseminar.com
SUMMARY:ENJOY ”Medi！”（瞑想＆ストレッチ）
DESCRIPTION:瞑想とかんたんなストレッチでリフレッシュしませんか？ \n心と身体の代謝を高め、健康と気付きを高めます \n都会生活で起こりがちな頭、思考への過度な集中状態を \nクールダウンさせ効果的な行動を促します \nグループで行う事で効果は桁違いにもたらされます \n日々の積み重ねが大切です \nストレッチを行います、動きやすい服装がお勧めです \nこのイベントはご予約の必要はございません\n※終了後のお茶会はございません \n当日会場にてお待ちしております
URL:https://www.enjoyseminar.com/ai/event/meditation2019dec/
LOCATION:川崎産業振興会館 10階 和室\, 幸区堀川町66-20\, 川崎市\, 神奈川県
CATEGORIES:瞑想会
END:VEVENT
END:VCALENDAR